BEGIN:VCALENDAR
VERSION:2.0
PRODID:-//PrEP Awareness Week - ECPv6.15.1//NONSGML v1.0//EN
CALSCALE:GREGORIAN
METHOD:PUBLISH
X-WR-CALNAME:PrEP Awareness Week
X-ORIGINAL-URL:https://phillyprepawarenessweek.com
X-WR-CALDESC:Events for PrEP Awareness Week
REFRESH-INTERVAL;VALUE=DURATION:PT1H
X-Robots-Tag:noindex
X-PUBLISHED-TTL:PT1H
BEGIN:VTIMEZONE
TZID:America/New_York
BEGIN:DAYLIGHT
TZOFFSETFROM:-0500
TZOFFSETTO:-0400
TZNAME:EDT
DTSTART:20250309T070000
END:DAYLIGHT
BEGIN:STANDARD
TZOFFSETFROM:-0400
TZOFFSETTO:-0500
TZNAME:EST
DTSTART:20251102T060000
END:STANDARD
END:VTIMEZONE
BEGIN:VEVENT
DTSTART;TZID=America/New_York:20251028T180000
DTEND;TZID=America/New_York:20251028T200000
DTSTAMP:20260420T093735
CREATED:20250909T171944Z
LAST-MODIFIED:20251020T200827Z
UID:10000005-1761674400-1761681600@phillyprepawarenessweek.com
SUMMARY:Bold\, Black\, & Barrier Free: Increasing Sexual Responsibility in Black Women
DESCRIPTION:Join the Division of HIV Health (DHH) in partnership with Zeta Phi Beta Sorority\, Inc. – Epsilon Omega Zeta Chapter for an empowering 90-minute virtual workshop centered on Black women’s wellness\, advocacy\, and HIV prevention. \nThis interactive session explores the real conversations around PrEP (pre-exposure prophylaxis)\, STI prevention\, and self-advocacy—without shame or stigma. Together\, we’ll unpack what it means to prioritize our bodies\, our joy\, and our right to thrive. \nParticipants will: \n\nLearn how PrEP works and the different options available\nDeepen understanding of STI risks and prevention strategies\nExplore how wellness and advocacy go hand-in-hand when navigating care\nBuild personalized sexual wellness plans rooted in agency\, clarity\, and care\n\nThe session features clinical insights\, public health expertise\, and a trauma-informed space to reflect\, ask questions\, and leave with tools you can use right away. \nWho Should Attend:\nBlack women and femme-identified folks ages 18+\, community health advocates\, sorority members\, and anyone passionate about Black wellness and prevention. \nDate: Tuesday\, October 29\, 2025\nTime: 6:00 PM – 7:30 PM ET\nLocation: Virtual (Zoom link provided upon RSVP)
URL:https://phillyprepawarenessweek.com/event/bold-black-barrier-free-increasing-sexual-responsibility-in-black-women/
LOCATION:
ATTACH;FMTTYPE=image/png:https://phillyprepawarenessweek.com/wp-content/uploads/2025/09/bold-black-and-barrier-free-10.28.2025-FINAL.png
ORGANIZER;CN="Philadelphia Department of Public Health":MAILTO:philadelphia.health.hiv@gmail.com
END:VEVENT
BEGIN:VEVENT
DTSTART;TZID=America/New_York:20251027T150000
DTEND;TZID=America/New_York:20251027T173000
DTSTAMP:20260420T093735
CREATED:20250925T205313Z
LAST-MODIFIED:20250925T205733Z
UID:10000006-1761577200-1761586200@phillyprepawarenessweek.com
SUMMARY:Walk-in Same Day PrEP
DESCRIPTION:
URL:https://phillyprepawarenessweek.com/event/walk-in-same-day-prep/2025-10-27/
LOCATION:AIDS Healthcare Foundation\, 1211 Chestnut St\, Philadelphia\, 19107\, United States
ATTACH;FMTTYPE=image/png:https://phillyprepawarenessweek.com/wp-content/uploads/2025/09/AHF-PHILLY-PrEP-AWARE-WEEK.png
ORGANIZER;CN="Philadelphia Department of Public Health":MAILTO:philadelphia.health.hiv@gmail.com
END:VEVENT
BEGIN:VEVENT
DTSTART;TZID=America/New_York:20251027T140000
DTEND;TZID=America/New_York:20251027T160000
DTSTAMP:20260420T093735
CREATED:20250814T041212Z
LAST-MODIFIED:20250829T045252Z
UID:10000001-1761573600-1761580800@phillyprepawarenessweek.com
SUMMARY:Launching Philly PrEP Awareness Week
DESCRIPTION:Join the official launch Philly PrEP Awareness Week with a bold show of unity\, purpose\, and action. Community members\, healthcare professionals\, and prevention advocates will take the stage to highlight the vital role PrEP plays in preventing HIV and promoting health equity across Philadelphia. \nHear directly from local leaders and changemakers who are pushing the work forward\, and join a collective call to break down stigma\, dismantle barriers\, and expand access to PrEP in the communities that need it most.
URL:https://phillyprepawarenessweek.com/event/launching-philly-prep-awareness-week/
LOCATION:City Hall\, 296 Philadelphia Pedestrian Transit\, Philadelphia\, PA\, 19107\, United States
ATTACH;FMTTYPE=image/png:https://phillyprepawarenessweek.com/wp-content/uploads/2025/08/PrEP-Awareness-logos-and-more.png
ORGANIZER;CN="Philadelphia Department of Public Health":MAILTO:philadelphia.health.hiv@gmail.com
END:VEVENT
END:VCALENDAR